BEGIN:VCALENDAR
VERSION:2.0
PRODID:-//119.47.118.22//NONSGML kigkonsult.se iCalcreator 2.26.9//
CALSCALE:GREGORIAN
METHOD:PUBLISH
X-FROM-URL:https://agwb.org.nz
X-WR-TIMEZONE:Pacific/Auckland
BEGIN:VTIMEZONE
TZID:Pacific/Auckland
X-LIC-LOCATION:Pacific/Auckland
BEGIN:STANDARD
DTSTART:20210404T030000
TZOFFSETFROM:+1300
TZOFFSETTO:+1200
RDATE:20220403T030000
TZNAME:NZST
END:STANDARD
BEGIN:DAYLIGHT
DTSTART:20200927T020000
TZOFFSETFROM:+1200
TZOFFSETTO:+1300
RDATE:20210926T020000
TZNAME:NZDT
END:DAYLIGHT
END:VTIMEZONE
BEGIN:VEVENT
UID:ai1ec-22@agwb.org.nz
DTSTAMP:20210118T210818Z
CATEGORIES:
CONTACT:
DESCRIPTION:
DTSTART;TZID=Pacific/Auckland:20180124T193000
DTEND;TZID=Pacific/Auckland:20180124T220000
EXRULE:FREQ=YEARLY;BYDAY=4WE;BYMONTH=12
GEO:-36.879398;+174.724786
LOCATION:Mt Albert Senior Citizens Hall\, Rocket Park @ New North Rd & Wair
 ere Ave\, Mount Albert\, Auckland 1025\, New Zealand
RRULE:FREQ=MONTHLY;BYDAY=4WE
SEQUENCE:0
SUMMARY:Club Night
URL:https://agwb.org.nz/event/club-night/
X-COST-TYPE:free
END:VEVENT
END:VCALENDAR
