BEGIN:VCALENDAR
VERSION:2.0
PRODID:-//119.47.118.22//NONSGML kigkonsult.se iCalcreator 2.26.9//
CALSCALE:GREGORIAN
METHOD:PUBLISH
X-FROM-URL:https://agwb.org.nz
X-WR-TIMEZONE:Pacific/Auckland
BEGIN:VTIMEZONE
TZID:Pacific/Auckland
X-LIC-LOCATION:Pacific/Auckland
BEGIN:STANDARD
DTSTART:20200405T030000
TZOFFSETFROM:+1300
TZOFFSETTO:+1200
RDATE:20210404T030000
TZNAME:NZST
END:STANDARD
BEGIN:DAYLIGHT
DTSTART:20190929T020000
TZOFFSETFROM:+1200
TZOFFSETTO:+1300
RDATE:20200927T020000
TZNAME:NZDT
END:DAYLIGHT
END:VTIMEZONE
BEGIN:VEVENT
UID:ai1ec-807@agwb.org.nz
DTSTAMP:20191216T205934Z
CATEGORIES;LANGUAGE=en-US:Beer Event
CONTACT:http://auckland.beer/week
DESCRIPTION:<p>To kick off Auckland Beer Week we’re going north on Saturday
  10 June! We’ll be visiting:</p>\n<ul>\n<li><a href='http://www.mcleodsbre
 wery.co.nz/'>McLeod’s Brewery</a></li>\n<li><a href='https://8wired.co.nz/
 '>8 Wired</a></li>\n<li><a href='http://www.sawmillbrewery.co.nz/'>The Saw
 mill Brewery</a></li>\n<li><a href='https://www.thebeerspot.co.nz/'>The Be
 er Spot</a></li>\n</ul>\n<p>We’re taking some liberties with the definitio
 n of Super City to include our extended Auckland family.</p>\n<p>We’ll be 
 stopping for lunch at Sawmill.<strong> Please note that lunch and any beer
 s you want at Sawmill and The Beer Spot are not included in the ticket cos
 t.</strong></p>\n<p>Bus departs Britomart at 9am sharp and will leave The 
 Beer Spot at 5.00pm to return to Britomart.</p>\n<p>Tickets: <a class='ai1
 ec-ticket-url-exported' href='https://www.soba.org.nz/product/auckland-bee
 r-week-bus-trip/'>https://www.soba.org.nz/product/auckland-beer-week-bus-t
 rip/</a>.</p>
DTSTART;VALUE=DATE:20170610
DTEND;VALUE=DATE:20170611
LOCATION:Britomart
SEQUENCE:0
SUMMARY:Auckland Beer Week: SOBA Bus Trip
URL:https://agwb.org.nz/event/auckland-beer-week-soba-bus-trip/
X-COST-TYPE:external
X-COST:$25.00 – $50.00
X-TICKETS-URL:https://www.soba.org.nz/product/auckland-beer-week-bus-trip/
END:VEVENT
BEGIN:VEVENT
UID:ai1ec-22@agwb.org.nz
DTSTAMP:20191216T205934Z
CATEGORIES:
CONTACT:
DESCRIPTION:
DTSTART;TZID=Pacific/Auckland:20170125T193000
DTEND;TZID=Pacific/Auckland:20170125T220000
EXRULE:FREQ=YEARLY;BYDAY=4WE;BYMONTH=12
GEO:-36.879398;+174.724786
LOCATION:Mt Albert Senior Citizens Hall\, Rocket Park @ New North Rd & Wair
 ere Ave\, Mount Albert\, Auckland 1025\, New Zealand
RRULE:FREQ=MONTHLY;BYDAY=4WE
SEQUENCE:0
SUMMARY:Club Night
URL:https://agwb.org.nz/event/club-night/
X-COST-TYPE:free
END:VEVENT
BEGIN:VEVENT
UID:ai1ec-797@agwb.org.nz
DTSTAMP:20191216T205934Z
CATEGORIES;LANGUAGE=en-US:Beer Event\,Competition
CONTACT:
DESCRIPTION:<p><a href='https://www.facebook.com/groups/westernbrewersconfe
 rence/'>The Western Brewers Conference</a> is a quarterly competition for 
 homebrewers of any level. The rules are simple: $10 to enter – winner take
 s all\, 2nd place gets their $10 back\, and third place chooses the next s
 tyle to brew. Judges include commercial brewers\, BJCP certified judges an
 d other beer geeks with impeccable palates.</p>\n<p>Bring 2 x 330mL (or mo
 re) bottles – one for the judges\, one for other brewers to enjoy and chat
  about. Entries will be judged from 3pm.</p>\n<p>The month’s style:<br />
 \n<strong>BEST BITTER</strong></p>
DTSTART;TZID=Pacific/Auckland:20170527T143000
DTEND;TZID=Pacific/Auckland:20170527T180000
GEO:-36.766857;+174.587866
LOCATION:Hallertau @ 1171 Coatesville-Riverhead Hwy\, Riverhead 0892\, New 
 Zealand
SEQUENCE:0
SUMMARY:Western Brewers Conference
URL:https://agwb.org.nz/event/western-brewers-conference-2/
X-COST-TYPE:free
END:VEVENT
BEGIN:VEVENT
UID:ai1ec-801@agwb.org.nz
DTSTAMP:20191216T205934Z
CATEGORIES:
CONTACT:
DESCRIPTION:<p>Lagunitas are a classic California brewery with a great repu
 tation and we’ll have a few taps pouring all day (or while stocks last).</
 p>\n<p>3 kegs on tap to celebrate the launch.</p>\n<p>Lagunitas IPA – A we
 ll-rounded\, highly drinkable IPA. A bit of Caramel Malt barley provides t
 he richness that mellows out the twang of the hops. – 6.2%</p>\n<p>Lagunit
 as A Little Sumpin’ Sumpin’ – Way smooth and silky with a nice wheatly-esq
 ue-ishness. A truly unique style featuring a strong hop finish on a silky 
 body. A hoppy pale wheat ale that is great for IPA fans but so smooth that
  the hefeweizen fans dig it too. – 7.5%</p>\n<p>Lagunitas Pils – Our only 
 Lager\, brewed with loads of imported Saaz hops and a bottom-fermenting ye
 ast strain that leaves it Light and Crisp and Easy to Slam\, yet full of r
 eal flavor and all the things you yearn for. 6%</p>\n<p>A few giveaways on
  the day too so come down to City Works Depot and try your luck!</p>
DTSTART;TZID=Pacific/Auckland:20170609T120000
DTEND;TZID=Pacific/Auckland:20170609T220000
GEO:-36.849453;+174.758714
LOCATION:Brothers Beer @ 90 Wellesley St W\, Auckland\, 1010\, New Zealand
SEQUENCE:0
SUMMARY:Lagunitas NZ Launch
URL:https://agwb.org.nz/event/lagunitas-nz-launch/
X-COST-TYPE:free
END:VEVENT
BEGIN:VEVENT
UID:ai1ec-808@agwb.org.nz
DTSTAMP:20191216T205934Z
CATEGORIES;LANGUAGE=en-US:Beer Event
CONTACT:
DESCRIPTION:<p>Feeling DOWN(ward) dog after last night? Get your remedy at 
 UPtown freehouse!</p>\n<p>With one hour or recovery yoga\, designed to hel
 p ease post-party pain. Stretching and relaxing\, helping with the relief 
 of headaches\, nausea and fatigue.</p>\n<p>The class price ($15) includes 
 a free beer\, to end with bliss.</p>\n<p>Bring your after-party buddies\, 
 your comfy clothes and join us for a chilled out recovery session</p>\n<p>
 *hire a mat ($2) at the bar.</p>\n<p>Tickets: <a class='ai1ec-ticket-url-e
 xported' href='http://uptownfreehouse.com/'>http://uptownfreehouse.com/</a
 >.</p>
DTSTART;TZID=Pacific/Auckland:20170611T103000
DTEND;TZID=Pacific/Auckland:20170611T133000
GEO:-36.864576;+174.760978
LOCATION:Uptown Freehouse @ 224 Symonds St\, Grafton\, Auckland 1023\, New 
 Zealand
SEQUENCE:0
SUMMARY:Auckland Beer Week: Sunday
URL:https://agwb.org.nz/event/auckland-beer-week-sunday/
X-COST-TYPE:external
X-COST:$15
X-TICKETS-URL:http://uptownfreehouse.com/
END:VEVENT
BEGIN:VEVENT
UID:ai1ec-806@agwb.org.nz
DTSTAMP:20191216T205934Z
CATEGORIES;LANGUAGE=en-US:Beer Event
CONTACT:
DESCRIPTION:<p>Garage Project is teaming up with the folks behind <a href='
 https://www.facebook.com/SatyaSpiceandChai/' data-hovercard='/ajax/hoverca
 rd/page.php?id=1579448912319296&extragetparams=%7B%22directed_target_id%22
 %3A1892367621033225%7D' data-hovercard-prefer-more-content-show='1'>Satya 
 Spice and Chai Shop</a>‘s new location on K Road to bring you 7 days of de
 licousness as a part of <a href='https://www.facebook.com/aklbeerweek/' da
 ta-hovercard='/ajax/hovercard/page.php?id=1858126187766736&extragetparams=
 %7B%22directed_target_id%22%3A1892367621033225%7D' data-hovercard-prefer-m
 ore-content-show='1'>Auckland Beer Week</a>.</p>\n<p>There will be a total
  of 18 GP beers available\, inlcuding six matched with owner Sammy’s favou
 rite dishes. While stocks last\, you don’t want to miss this Auckland.</p>
 \n<p>No tickets required.</p>
DTSTART;TZID=Pacific/Auckland:20170612T170000
DTEND;TZID=Pacific/Auckland:20170618T180000
GEO:-36.857597;+174.758303
LOCATION:271 Karangahape Rd\, Auckland\, 1010\, New Zealand
SEQUENCE:0
SUMMARY:Garage Project at Satya Chai Lounge
URL:https://agwb.org.nz/event/garage-project-at-satya-chai-lounge/
X-COST-TYPE:free
END:VEVENT
BEGIN:VEVENT
UID:ai1ec-809@agwb.org.nz
DTSTAMP:20191216T205934Z
CATEGORIES;LANGUAGE=en-US:Beer Event
CONTACT:https://www.facebook.com/events/1446660742060025/
DESCRIPTION:<p>We LOVE Cheese and we are quite partial to Beer as well. Joi
 n us for a <strong>McLeod’s tap takeover</strong> as we guide you through 
 a sublime set of specially matched cheesey treats made by our chef.</p>
DTSTART;TZID=Pacific/Auckland:20170613T170000
DTEND;TZID=Pacific/Auckland:20170613T230000
GEO:-36.864576;+174.760978
LOCATION:Uptown Freehouse @ 224 Symonds St\, Grafton\, Auckland 1023\, New 
 Zealand
SEQUENCE:0
SUMMARY:Auckland Beer Week: Uptown Freehouse presents McLeods Brewery and K
 apiti Cheese pairing
URL:https://agwb.org.nz/event/auckland-beer-week-sweet-dreams-are-made-of-c
 heese-and-beer/
X-COST-TYPE:free
END:VEVENT
BEGIN:VEVENT
UID:ai1ec-811@agwb.org.nz
DTSTAMP:20191216T205934Z
CATEGORIES;LANGUAGE=en-US:Beer Event
CONTACT:
DESCRIPTION:<p>To celebrate Auckland Beer Week\, Beer Without Borders is ho
 sting another of their famous tastings!</p>\n<p>This time they’ve decided 
 to go for a greatest hits event. The best beers they can think of from the
  BWB catalogue in any category.</p>\n<p>Starring such legends as:</p>\n<ul
 >\n<li>Ballast Point Brewing Company Longfin Lager</li>\n<li>Modern Times 
 Beer Funky Universal Friend Saison w/ Pinot Grigio</li>\n<li>Ballast Point
  Brewing CompanySculpin IPA</li>\n<li>Karl Strauss Brewing Company Six Sui
 ts-a-Hangin Belgian Brown Ale</li>\n<li>Oskar Blues Brewery Ten Fidy Imp S
 tout</li>\n<li>Almanac Beer Co Grand Cru Red</li>\n</ul>\n<p>As always\, t
 he tasting includes 10% off any takeaway bottles after the event concludes
 .</p>\n<p>Lineup still TBC</p>\n<p>Starts at 7pm Tickets are $40.00</p>\n<
 p>Tickets: <a class='ai1ec-ticket-url-exported' href='https://brothersbeer
 .co.nz/products/beer-without-borders-greatest-hits-ticketed-tasting'>https
 ://brothersbeer.co.nz/products/beer-without-borders-greatest-hits-ticketed
 -tasting</a>.</p>
DTSTART;TZID=Pacific/Auckland:20170613T190000
DTEND;TZID=Pacific/Auckland:20170613T230000
GEO:-36.849792;+174.758882
LOCATION:Brothers Beer @ 90 Wellesley St W\, Auckland\, 1010\, New Zealand
SEQUENCE:0
SUMMARY:Auckland Beer Week: Beer Without Borders – Greatest Hits Ticketed T
 asting
URL:https://agwb.org.nz/event/auckland-beer-week-beer-without-borders-great
 est-hits-ticketed-tasting/
X-COST-TYPE:external
X-COST:$40.00
X-TICKETS-URL:https://brothersbeer.co.nz/products/beer-without-borders-grea
 test-hits-ticketed-tasting
END:VEVENT
BEGIN:VEVENT
UID:ai1ec-812@agwb.org.nz
DTSTAMP:20191216T205934Z
CATEGORIES;LANGUAGE=en-US:Beer Event
CONTACT:
DESCRIPTION:<p>Stone & Wood Tap Takeover showcasing their Cloud Catcher wit
 h the best fish in chips in town!</p>\n<p>The brewers and the Stone & Wood
  crew will be there.</p>\n<p>Starts at 4pm</p>
DTSTART;TZID=Pacific/Auckland:20170614T160000
DTEND;TZID=Pacific/Auckland:20170614T230000
GEO:-36.847833;+174.759784
LOCATION:128 Victoria St W\, Auckland\, 1010\, New Zealand
SEQUENCE:0
SUMMARY:Auckland Beer Week: Stone & Wood Tap Takeover
URL:https://agwb.org.nz/event/auckland-beer-week-stone-wood-tap-takeover/
X-COST-TYPE:free
END:VEVENT
BEGIN:VEVENT
UID:ai1ec-813@agwb.org.nz
DTSTAMP:20191216T205934Z
CATEGORIES;LANGUAGE=en-US:Beer Event
CONTACT:
DESCRIPTION:<p>Showcasing breweries/cideries from the Hawkes Bay Region inc
 luding Brave\, Giant\, Zeelandt and Three Wise Birds. Come bob for apples 
 for prizes.</p>
DTSTART;TZID=Pacific/Auckland:20170614T170000
DTEND;TZID=Pacific/Auckland:20170614T230000
GEO:-36.867368;+174.77756
LOCATION:444 Khyber Pass Rd\, Newmarket\, Auckland 1023\, New Zealand
SEQUENCE:0
SUMMARY:Auckland Beer Week: Hawkes Bay breweries and cideries with apple bo
 bbing
URL:https://agwb.org.nz/event/auckland-beer-week-hawkes-bay-breweries-and-c
 ideries-with-apple-bobbing/
X-COST-TYPE:free
END:VEVENT
BEGIN:VEVENT
UID:ai1ec-802@agwb.org.nz
DTSTAMP:20191216T205934Z
CATEGORIES;LANGUAGE=en-US:Beer Event
CONTACT:
DESCRIPTION:<p>Roll up\, roll up! If you’re a fan of all things Garage Proj
 ect\, then this event is not to be missed.</p>\n<p>Five of Wellington’s be
 st brews have been transported up to Auckland to your favourite local: 16T
 un!</p>\n<p>The tap line up:</p>\n<p>-‘Tiramisu’ Coffee flower and vanilla
  cream ale. (Nitro)<br />\n-‘Chateau Aro ’16’ A dark rubescent ale using r
 ed wine grapes.<br />\n-‘Hellbender’ A leviathan of a beer. American style
  barleywine.<br />\n-‘Wolfman’ Who’s afraid of the big bad wolf? 9% Imperi
 al IPA.<br />\n– “Party and Bulls**t’ East Coast anthem IPA.<br />\n– Plus
  more in bottles. Don’t miss your chance to sample brewing at it’s most cu
 rious\, ingenuitive\, and inventive.</p>
DTSTART;TZID=Pacific/Auckland:20170614T170000
DTEND;TZID=Pacific/Auckland:20170614T230000
GEO:-36.841031;+174.756339
LOCATION:16 Tun @ 10/26 Jellicoe St\, Auckland\, 1050\, New Zealand
SEQUENCE:0
SUMMARY:Garage Project Heavy Hitters
URL:https://agwb.org.nz/event/garage-project-heavy-hitters/
X-COST-TYPE:free
END:VEVENT
BEGIN:VEVENT
UID:ai1ec-798@agwb.org.nz
DTSTAMP:20191216T205934Z
CATEGORIES;LANGUAGE=en-US:Beer Event
CONTACT:
DESCRIPTION:<p>K Road’s <b>Lovebucket </b>have teamed up with <b>Beer Witho
 ut Borders</b> to take a look at some of the best barrel aged beers availa
 ble in New Zealand\, and discuss what about barrel ageing beers makes them
  so special. This guided tasting includes six different beers aged in six 
 different types of barrel.</p>\n<p><b><u>Breweries/type of barrel featured
 : </u></b><br />\n<b>Almanac </b>(California\, USA – ex-White Wine barrel)
 <br />\n<b>Coronado </b>(California\, USA – ex-Brandy barrel)<br />\n<b>Mo
 on Dog</b> (Melbourne\, Australia – ex-Cognac barrel)<br />\n<b>Mikkeller 
 </b>(Denmark – ex-Calvados barrel)<br />\n<b>Brouwerij De Molen</b> (Holla
 nd – ex-Bourbon barrel)<br />\n<b>Gigantic Brewing</b> (Oregon\, USA – ex-
 Gin barrel)</p>\n<p>This is one of the most amazing and rare-lineups of be
 er we’ve ever assembled\, you’ll kick yourself if you miss out!</p>\n<p>Pl
 ease note: No physical tickets will be issued\, your name will be on the d
 oor.</p>\n<p>Tickets: <a class='ai1ec-ticket-url-exported' href='https://w
 ww.cultbeerstore.co.nz/collections/events/products/auckland-beer-week-barr
 el-aged-masterclass'>https://www.cultbeerstore.co.nz/collections/events/pr
 oducts/auckland-beer-week-barrel-aged-masterclass</a>.</p>
DTSTART;TZID=Pacific/Auckland:20170614T190000
DTEND;TZID=Pacific/Auckland:20170614T210000
GEO:-36.857501;+174.75764
LOCATION:Lovebucket Bar @ 309 Karangahape Rd\, Auckland\, 1010\, New Zealan
 d
SEQUENCE:0
SUMMARY:Auckland Beer Week: Barrel Aged Masterclass
URL:https://agwb.org.nz/event/auckland-beer-week-barrel-aged-masterclass/
X-COST-TYPE:external
X-COST:35.00
X-TICKETS-URL:https://www.cultbeerstore.co.nz/collections/events/products/a
 uckland-beer-week-barrel-aged-masterclass
END:VEVENT
BEGIN:VEVENT
UID:ai1ec-823@agwb.org.nz
DTSTAMP:20191216T205934Z
CATEGORIES;LANGUAGE=en-US:Beer Event
CONTACT:
DESCRIPTION:<p>Due to the success of last year’s Best Of British\, this Yea
 r Galbraith’s & Beertique will bring you Best Of British Part 2. Bigger An
 d Better. This year the event will run for 11 days starting on June 15th. 
 Over the 11 days we will have 70 plus kegs to get through. It will feature
  breweries from England\, Scotland & Wales. We will also have some new bre
 weries on board. Brewery line up is: Adnams\, Beavertown\, Magic Rock\, Te
 mpest\, Thornbridge and for the 1st time in NZ Tiny Rebel\, as well as two
  more special breweries being air freighted for the event and some one-off
  beers that you may never see again.</p>
DTSTART;TZID=Pacific/Auckland:20170615T120000
DTEND;TZID=Pacific/Auckland:20170615T230000
GEO:-36.865582;+174.761234
LOCATION:2 Mount Eden Rd\, Eden Terrace\, Auckland 1023\, New Zealand
SEQUENCE:0
SUMMARY:Auckland Beer Week: Best of Britain Part 2
URL:https://agwb.org.nz/event/auckland-beer-week-best-of-britain-part-2/
X-COST-TYPE:free
END:VEVENT
BEGIN:VEVENT
UID:ai1ec-815@agwb.org.nz
DTSTAMP:20191216T205934Z
CATEGORIES;LANGUAGE=en-US:Beer Event
CONTACT:
DESCRIPTION:<p>We’re not all about the boys at Brothers. We are stoked to b
 e hosting our Sisters from the NZ brewing industry for our Pink Boots tap 
 takeover.</p>\n<p>Including beers from the awesome women at:<br />\nPink B
 oots Society – NZ<br />\nMata Beer<br />\nSprig and Fern Brewery<br />\nBe
 er Baroness<br />\nand more TBA…</p>\n<p>With live music from Jak Stone</p
 >
DTSTART;TZID=Pacific/Auckland:20170615T120000
DTEND;TZID=Pacific/Auckland:20170615T230000
GEO:-36.850032;+174.758561
LOCATION:90 Wellesley St W\, Auckland 1010\, New Zealand
SEQUENCE:0
SUMMARY:Auckland Beer Week: Sisters – Pink Boots Society Tap Takeover
URL:https://agwb.org.nz/event/auckland-beer-week-sisters-pink-boots-society
 -tap-takeover/
X-COST-TYPE:free
END:VEVENT
BEGIN:VEVENT
UID:ai1ec-814@agwb.org.nz
DTSTAMP:20191216T205934Z
CATEGORIES;LANGUAGE=en-US:Beer Event
CONTACT:
DESCRIPTION:<p>After last years sell out early in the evening\, The Lumsden
  and Beer Without Borders team up again to bring you the best food and dri
 nk match known to humanity – Dark Beer and Oysters! On tap will be a selec
 tion of dark malt driven magic\, and oysters available by the 1/2 or full 
 dozen. Get in early because those heroes in a half shell will sell out qui
 ckly!</p>
DTSTART;TZID=Pacific/Auckland:20170615T120100
DTEND;TZID=Pacific/Auckland:20170615T230100
GEO:-36.867368;+174.77756
LOCATION:444 Khyber Pass Rd\, Newmarket\, Auckland 1023\, New Zealand
SEQUENCE:0
SUMMARY:Auckland Beer Week: Dark Beer and Oysters v2.0
URL:https://agwb.org.nz/event/auckland-beer-week-dark-beer-and-oysters-v2-0
 /
X-COST-TYPE:free
END:VEVENT
BEGIN:VEVENT
UID:ai1ec-816@agwb.org.nz
DTSTAMP:20191216T205934Z
CATEGORIES;LANGUAGE=en-US:Beer Event
CONTACT:
DESCRIPTION:<p>Stone & Wood Tap Takeover showing their Stone Beer with Oyst
 ers from the Barnacle.</p>\n<p>The brewers and the Stone & Wood crew will 
 be there.</p>
DTSTART;TZID=Pacific/Auckland:20170615T160000
DTEND;TZID=Pacific/Auckland:20170615T230000
GEO:-36.863368;+174.809395
LOCATION:232 Orakei Rd\, Remuera\, Auckland 1050\, New Zealand
SEQUENCE:0
SUMMARY:Auckland Beer Week: Stone & Wood Showcase (with oysters)
URL:https://agwb.org.nz/event/auckland-beer-week-stone-wood-showcase-with-o
 ysters/
X-COST-TYPE:free
END:VEVENT
BEGIN:VEVENT
UID:ai1ec-818@agwb.org.nz
DTSTAMP:20191216T205934Z
CATEGORIES;LANGUAGE=en-US:Beer Event
CONTACT:
DESCRIPTION:<p>Join the Pirate Party! Australia’s best brewery will be taki
 ng over 5 taps and 4 of these beers are in the GABS hottest top 20.</p>\n<
 p>This is definitely one for the hop heads as we’ll be pouring Throwback S
 ession IPA\, Hopco NZ Pale\, Pale Ale\, IPA\, IIPA. The beers will be acco
 mpanied by Caribbean provisions\, palm trees and pirate flags.</p>\n<p>The
 re will also be a guest appearance by the brewers themselves.</p>
DTSTART;TZID=Pacific/Auckland:20170615T170000
DTEND;TZID=Pacific/Auckland:20170615T230000
GEO:-36.864629;+174.761031
LOCATION:224 Symonds St\, Eden Terrace\, Auckland 1010\, New Zealand
SEQUENCE:0
SUMMARY:Auckland Beer Week: Pirate Life party at Uptown
URL:https://agwb.org.nz/event/auckland-beer-week-pirate-life-party-at-uptow
 n/
X-COST-TYPE:free
END:VEVENT
BEGIN:VEVENT
UID:ai1ec-804@agwb.org.nz
DTSTAMP:20191216T205934Z
CATEGORIES;LANGUAGE=en-US:Beer Event
CONTACT:https://www.facebook.com/events/161482381053910/
DESCRIPTION:<p>To celebrate we have made a couple of Awesome beers. Includi
 ng the new Good Morning Vietnam – Vietnamese Coffee Imperial Stout 9.99% a
 nd teaming up with Doornuts on K Road to have a bit of fun with coffee bee
 r and doughnut matching.</p>
DTSTART;TZID=Pacific/Auckland:20170615T170000
DTEND;TZID=Pacific/Auckland:20170615T235900
GEO:-36.847012;+174.766505
LOCATION:Vultures' Lane Craft Bar @ 10 Vulcan Ln\, Auckland\, 1010\, New Ze
 aland
SEQUENCE:0
SUMMARY:Behemoth 4th Birthday and doughnuts
URL:https://agwb.org.nz/event/behemoth-4th-birthday-and-doughnuts/
X-COST-TYPE:free
END:VEVENT
BEGIN:VEVENT
UID:ai1ec-819@agwb.org.nz
DTSTAMP:20191216T205934Z
CATEGORIES;LANGUAGE=en-US:Beer Event
CONTACT:https://www.facebook.com/events/1893267264218843/
DESCRIPTION:<p>Come join us for an Epic Beer and Whiskey pairing\, hosted b
 y Luke from Epic and Sam from The House of Whiskey. We have matched 5 Epic
  Beers to 5 whiskeys from around the world.</p>\n<p>There are only 40 seat
 s available\, so be sure to get your tickets early. Tickets are $69 and ar
 e only available from The Brewers Co-Operative\, on a first come\, first s
 erved basis.</p>\n<p>We strongly advise leaving the car at home for this o
 ne\, in true Epic style\, the beers are strong\, and the whiskeys are even
  stronger. Snacks will be provided\, there will be plenty of water on hand
  too\, and spittoons for those who want to taste but not imbibe.</p>
DTSTART;TZID=Pacific/Auckland:20170615T183000
DTEND;TZID=Pacific/Auckland:20170615T230000
GEO:-36.847833;+174.759784
LOCATION:128 Victoria St W\, Auckland\, 1010\, New Zealand
SEQUENCE:0
SUMMARY:Auckland Beer Week: Epic Whiskey tasting
URL:https://agwb.org.nz/event/auckland-beer-week-epic-whiskey-tasting/
X-COST-TYPE:external
X-COST:$69
END:VEVENT
BEGIN:VEVENT
UID:ai1ec-821@agwb.org.nz
DTSTAMP:20191216T205934Z
CATEGORIES;LANGUAGE=en-US:Beer Event
CONTACT:
DESCRIPTION:<p>Shaking things up for Beer Week\, Glengarry Wines and Garage
  Project are trying something a little different. Weve matched beer with 
 food\, even with wine and whiskey- but jokes? Garage Project are always te
 sting new material\, plus youll get the best gear from each of our establ
 ished local comedians. In the wake of their Comedy Fest shows and before G
 arage Project hits Auckland GABS\, its a marriage between festivals. You 
 may not be spittooning like a wine snob\, just try not to spray beer from 
 your nose while some of Aucklands funniest young comedians do their thing
 . Featuring\;<br />\nMC Ashton Brown<br />\nBrendan Kelly<br />\nLouis Beu
 vink<br />\nand Scott W Long</p>
DTSTART;TZID=Pacific/Auckland:20170615T190000
DTEND;TZID=Pacific/Auckland:20170615T230000
GEO:-36.848906;+174.757129
LOCATION:118 Wellesley St West\, Auckland\, 1010\, New Zealand
SEQUENCE:0
SUMMARY:Auckland Beer Week: Laughed for craft: Garage Project & Comedy Nigh
 t
URL:https://agwb.org.nz/event/auckland-beer-week-laughed-for-craft-garage-p
 roject-comedy-night/
X-COST-TYPE:free
X-COST:$30
END:VEVENT
BEGIN:VEVENT
UID:ai1ec-805@agwb.org.nz
DTSTAMP:20191216T205934Z
CATEGORIES;LANGUAGE=en-US:Beer Event
CONTACT:https://www.gabsfestival.com/auckland-intro/
DESCRIPTION:<p>GABS Beer\, Cider & Food Fest presented by Liquorland</p>
DTSTART;TZID=Pacific/Auckland:20170616T183000
DTEND;TZID=Pacific/Auckland:20170617T223000
GEO:-36.892608;+174.782511
LOCATION:ASB Showgrounds @ 217 Green Ln W\, Epsom\, Auckland 1051\, New Zea
 land
SEQUENCE:0
SUMMARY:GABS
URL:https://agwb.org.nz/event/gabs/
X-COST-TYPE:free
END:VEVENT
BEGIN:VEVENT
UID:ai1ec-919@agwb.org.nz
DTSTAMP:20191216T205934Z
CATEGORIES;LANGUAGE=en-US:Competition
CONTACT:
DESCRIPTION:
DTSTART;TZID=Pacific/Auckland:20171013T083000
DTEND;TZID=Pacific/Auckland:20171013T160000
GEO:-36.971934;+174.862656
LOCATION:Hunters Corner Bowling Club\, Papatoetoe @ 247 Great South Rd\, Pa
 patoetoe\, Auckland 2025\, New Zealand
SEQUENCE:0
SUMMARY:2017 National Federation Competition – judging
URL:https://agwb.org.nz/event/2017-national-competition-judging/
X-COST-TYPE:free
END:VEVENT
BEGIN:VEVENT
UID:ai1ec-920@agwb.org.nz
DTSTAMP:20191216T205934Z
CATEGORIES:
CONTACT:
DESCRIPTION:
DTSTART;TZID=Pacific/Auckland:20171014T170000
DTEND;TZID=Pacific/Auckland:20171014T220000
GEO:-36.971934;+174.862656
LOCATION:Hunters Corner Bowling Club\, Papatoetoe @ 247 Great South Rd\, Pa
 patoetoe\, Auckland 2025\, New Zealand
SEQUENCE:0
SUMMARY:2017 National Federation Competition – Prize Giving
URL:https://agwb.org.nz/event/2017-national-federation-competition-prize-gi
 ving/
X-COST-TYPE:free
END:VEVENT
BEGIN:VEVENT
UID:ai1ec-932@agwb.org.nz
DTSTAMP:20191216T205934Z
CATEGORIES;LANGUAGE=en-US:Beer Event\,Competition
CONTACT:https://www.pihabowlingclub.com/home-brew-comp-2017
DESCRIPTION:<p>Hello BEER LOVERS!</p>\n<p>We would like invite you to our H
 OME BREW COMP 2017\, taking place at the Piha Bowling Club on Saturday 11t
 h November. Piha is not new to home brewing and we are looking to revive t
 his event with gusto!<br />\n​<br />\nENTERING THE COMPETION:<br />\nPleas
 e find all of the entry details in our downloadable entry form. You can al
 so enter online by filling in the form below. Deadline for competition ent
 ries is Saturday 21st October<br />\n​<br />\nPURCHASING A TICKET:<br />\n
 Tickets available from October 1st onwards. Entry for beer tasting is $15/
 ticket and can be purchased prior via the bar (cash only) or on the day of
  the event at the gate. You will be given your beer tasting pack on the da
 y of the event.<br />\n​<br />\nNon beer tasters – we only request koha fo
 r entry and kids are free!</p>\n<p>Tickets: <a class='ai1ec-ticket-url-exp
 orted' href='https://www.pihabowlingclub.com/home-brew-comp-2017'>https://
 www.pihabowlingclub.com/home-brew-comp-2017</a>.</p>
DTSTART;TZID=Pacific/Auckland:20171111T120000
GEO:-36.953963;+174.472489
LOCATION:21 Seaview Rd\, Piha 0772\, New Zealand
SEQUENCE:0
SUMMARY:Piha Bowling Club Homebrew Competition
URL:https://agwb.org.nz/event/piha-bowling-club-homebrew-competition/
X-COST-TYPE:external
X-COST:$15
X-TICKETS-URL:https://www.pihabowlingclub.com/home-brew-comp-2017
X-INSTANT-EVENT:1
END:VEVENT
END:VCALENDAR
